BEGIN:VCALENDAR
VERSION:2.0
PRODID:-//AOCC - ECPv6.15.13//NONSGML v1.0//EN
CALSCALE:GREGORIAN
METHOD:PUBLISH
X-ORIGINAL-URL:https://www.aocc.org.ar
X-WR-CALDESC:Eventos para AOCC
REFRESH-INTERVAL;VALUE=DURATION:PT1H
X-Robots-Tag:noindex
X-PUBLISHED-TTL:PT1H
BEGIN:VTIMEZONE
TZID:America/Sao_Paulo
BEGIN:STANDARD
TZOFFSETFROM:-0300
TZOFFSETTO:-0300
TZNAME:-03
DTSTART:20250101T000000
END:STANDARD
END:VTIMEZONE
BEGIN:VEVENT
DTSTART;VALUE=DATE:20260330
DTEND;VALUE=DATE:20260601
DTSTAMP:20260419T130525
CREATED:20260413T194835Z
LAST-MODIFIED:20260413T195718Z
UID:7451-1774828800-1780271999@www.aocc.org.ar
SUMMARY:1° Curso de Soporte Nutricional en el Paciente Oncológico
DESCRIPTION:Organizado por: EduKabi – Fresenius Kabi Argentina. \nDuración: 2 meses. Inicia: 30 de marzo de 2026. \nModalidad virtual asincrónica. Programa\, aquí. \nConsultar por becas disponibles: info@aocc.org.ar – Más información: contacto-edukabi@fresenius-kabi.com
URL:https://www.aocc.org.ar/eventoaocc/1-curso-de-soporte-nutricional-en-el-paciente-oncologico/
ATTACH;FMTTYPE=image/png:https://www.aocc.org.ar/wp-content/uploads/2026/04/Diseno-sin-titulo-7.png
END:VEVENT
BEGIN:VEVENT
DTSTART;VALUE=DATE:20260507
DTEND;VALUE=DATE:20260509
DTSTAMP:20260419T130525
CREATED:20260206T112302Z
LAST-MODIFIED:20260206T112302Z
UID:7413-1778112000-1778284799@www.aocc.org.ar
SUMMARY:II Jornada de Mastología del Centro
DESCRIPTION:Organizadas por la Sociedad de Patología Mamaria de Córdoba. \nConsultar temario preliminar\, aquí.
URL:https://www.aocc.org.ar/eventoaocc/ii-jornada-de-mastologia-del-centro/
LOCATION:Hotel Quinto Centenario\, Duarte Quirós 1300\, Córdoba\, Argentina
ATTACH;FMTTYPE=image/jpeg:https://www.aocc.org.ar/wp-content/uploads/2026/02/II-Jornadas-de-Mastologia-del-Centro_flyer-general-100-.jpg
END:VEVENT
BEGIN:VEVENT
DTSTART;VALUE=DATE:20260507
DTEND;VALUE=DATE:20260509
DTSTAMP:20260419T130525
CREATED:20260325T112802Z
LAST-MODIFIED:20260325T112802Z
UID:7433-1778112000-1778284799@www.aocc.org.ar
SUMMARY:Congreso Argentino de Radioterapia Oncológica – XXV Reunión Anual
DESCRIPTION:Organizado por la Sociedad Argentina de Terapia Radiante Oncológica (SATRO). \nLugar: Double Tree by Hilton (Reconquista 945\, Ciudad Autónoma de Buenos Aires). \nInscripciones\, aquí. Programa completo\, aquí. \nEvento auspiciado por la AOCC.
URL:https://www.aocc.org.ar/eventoaocc/congreso-argentino-de-radioterapia-oncologica-xxv-reunion-anual/
ATTACH;FMTTYPE=image/jpeg:https://www.aocc.org.ar/wp-content/uploads/2026/03/Flyer-Congreso_Redes-cuatro.jpg
END:VEVENT
END:VCALENDAR