BEGIN:VCALENDAR
VERSION:2.0
PRODID:-//AOCC - ECPv6.15.13//NONSGML v1.0//EN
CALSCALE:GREGORIAN
METHOD:PUBLISH
X-WR-CALNAME:AOCC
X-ORIGINAL-URL:https://www.aocc.org.ar
X-WR-CALDESC:Eventos para AOCC
REFRESH-INTERVAL;VALUE=DURATION:PT1H
X-Robots-Tag:noindex
X-PUBLISHED-TTL:PT1H
BEGIN:VTIMEZONE
TZID:America/Sao_Paulo
BEGIN:STANDARD
TZOFFSETFROM:-0300
TZOFFSETTO:-0300
TZNAME:-03
DTSTART:20250101T000000
END:STANDARD
END:VTIMEZONE
BEGIN:VEVENT
DTSTART;VALUE=DATE:20260330
DTEND;VALUE=DATE:20260601
DTSTAMP:20260419T130526
CREATED:20260413T194835Z
LAST-MODIFIED:20260413T195718Z
UID:7451-1774828800-1780271999@www.aocc.org.ar
SUMMARY:1° Curso de Soporte Nutricional en el Paciente Oncológico
DESCRIPTION:Organizado por: EduKabi – Fresenius Kabi Argentina. \nDuración: 2 meses. Inicia: 30 de marzo de 2026. \nModalidad virtual asincrónica. Programa\, aquí. \nConsultar por becas disponibles: info@aocc.org.ar – Más información: contacto-edukabi@fresenius-kabi.com
URL:https://www.aocc.org.ar/eventoaocc/1-curso-de-soporte-nutricional-en-el-paciente-oncologico/
ATTACH;FMTTYPE=image/png:https://www.aocc.org.ar/wp-content/uploads/2026/04/Diseno-sin-titulo-7.png
END:VEVENT
END:VCALENDAR